BEGIN:VCALENDAR
VERSION:2.0
PRODID:-//Dogwood - ECPv6.15.20//NONSGML v1.0//EN
CALSCALE:GREGORIAN
METHOD:PUBLISH
X-WR-CALNAME:Dogwood
X-ORIGINAL-URL:https://dogwoodcenter.com
X-WR-CALDESC:Events for Dogwood
REFRESH-INTERVAL;VALUE=DURATION:PT1H
X-Robots-Tag:noindex
X-PUBLISHED-TTL:PT1H
BEGIN:VTIMEZONE
TZID:America/Detroit
BEGIN:DAYLIGHT
TZOFFSETFROM:-0500
TZOFFSETTO:-0400
TZNAME:EDT
DTSTART:20230312T070000
END:DAYLIGHT
BEGIN:STANDARD
TZOFFSETFROM:-0400
TZOFFSETTO:-0500
TZNAME:EST
DTSTART:20231105T060000
END:STANDARD
BEGIN:DAYLIGHT
TZOFFSETFROM:-0500
TZOFFSETTO:-0400
TZNAME:EDT
DTSTART:20240310T070000
END:DAYLIGHT
BEGIN:STANDARD
TZOFFSETFROM:-0400
TZOFFSETTO:-0500
TZNAME:EST
DTSTART:20241103T060000
END:STANDARD
BEGIN:DAYLIGHT
TZOFFSETFROM:-0500
TZOFFSETTO:-0400
TZNAME:EDT
DTSTART:20250309T070000
END:DAYLIGHT
BEGIN:STANDARD
TZOFFSETFROM:-0400
TZOFFSETTO:-0500
TZNAME:EST
DTSTART:20251102T060000
END:STANDARD
END:VTIMEZONE
BEGIN:VEVENT
DTSTART;TZID=America/Detroit:20240725T193000
DTEND;TZID=America/Detroit:20240725T213000
DTSTAMP:20260422T033348
CREATED:20240612T164726Z
LAST-MODIFIED:20240625T174324Z
UID:9181-1721935800-1721943000@dogwoodcenter.com
SUMMARY:Thursday\, July 25 - Dogwood's Summer Youth Theater Presents: Inconceivable! 7:30 p.m. Main Stage
DESCRIPTION:Free Admission! Reserve a ticket for the show!\nDogwood’s Summer Youth Theatre Presents: ‘Inconceivable!’ A fairy tale adventure about a beautiful young woman and her one true love. He must find her after a long separation and save her. They must battle the evils of the mythical kingdom of Florin to be reunited with each other. Written in a Shakespearean language format\, ‘Inconceivable!’ is a retelling of “The Princess Bride”: S Morgenstern’s Classic Tale of True Love and High Adventure\, The Good Parts Version Abridged by William Goldman\, adapted by Casey Webb. Performance dates are Thursday\, July 25 and Friday\, July 26 at 7:30 p.m. and Saturday\, July 27 at 3:00 p.m. \nThis program is partly funded by the Fremont Area Community Foundation. Join us for a Shakespearean tale of sword fighting and trwu lwove! \nAdmission is free but tickets are required. Please click here to complete checkout for your tickets.  The Dogwood Center is located one mile east of downtown Fremont. Doors open for seating at 7:00 p.m.  Online sales close two hours prior to events\, please call the box office for ticket availability at 231-924-8885 if online sales have ended.
URL:https://dogwoodcenter.com/events/thursday-july-25-dogwoods-summer-youth-theater-presents-inconceivable-730-p-m-main-stage/
LOCATION:Dogwood Center for Performing Arts\, 4734 S. Campus Court\, Fremont\, MI\, 49412\, United States
END:VEVENT
BEGIN:VEVENT
DTSTART;TZID=America/Detroit:20240726T193000
DTEND;TZID=America/Detroit:20240726T213000
DTSTAMP:20260422T033348
CREATED:20240612T164809Z
LAST-MODIFIED:20240625T163625Z
UID:9185-1722022200-1722029400@dogwoodcenter.com
SUMMARY:Friday\, July 26 - Dogwood's Summer Youth Theater Presents: Inconceivable! 7:30 p.m. Main Stage
DESCRIPTION:Free Admission! Reserve a ticket for the show!\nDogwood’s Summer Youth Theatre Presents: ‘Inconceivable!’ A fairy tale adventure about a beautiful young woman and her one true love. He must find her after a long separation and save her. They must battle the evils of the mythical kingdom of Florin to be reunited with each other. Written in a Shakespearean language format\, ‘Inconceivable!’ is a retelling of “The Princess Bride”: S Morgenstern’s Classic Tale of True Love and High Adventure\, The Good Parts Version Abridged by William Goldman\, adapted by Casey Webb. Performance dates are Thursday\, July 25 and Friday\, July 26 at 7:30 p.m. and Saturday\, July 27 at 3:00 p.m. \nThis program is partly funded by the Fremont Area Community Foundation. Join us for a Shakespearean tale of sword fighting and trwu lwove! \nAdmission is free but tickets are required. Please click here to complete checkout for your tickets.  The Dogwood Center is located one mile east of downtown Fremont. Doors open for seating at 7:00 p.m.  Online sales close two hours prior to events\, please call the box office for ticket availability at 231-924-8885 if online sales have ended.
URL:https://dogwoodcenter.com/events/friday-july-26-dogwoods-summer-youth-theater-presents-inconceivable-730-p-m-main-stage/
LOCATION:Dogwood Center for Performing Arts\, 4734 S. Campus Court\, Fremont\, MI\, 49412\, United States
END:VEVENT
BEGIN:VEVENT
DTSTART;TZID=America/Detroit:20240727T150000
DTEND;TZID=America/Detroit:20240727T170000
DTSTAMP:20260422T033348
CREATED:20240612T164925Z
LAST-MODIFIED:20240625T163611Z
UID:9187-1722092400-1722099600@dogwoodcenter.com
SUMMARY:Saturday\, July 27 - Dogwood's Summer Youth Theater Presents: Inconceivable! 3:00 p.m. Main Stage
DESCRIPTION:Free Admission! Reserve a ticket for the show!\nDogwood’s Summer Youth Theatre Presents: ‘Inconceivable!’ A fairy tale adventure about a beautiful young woman and her one true love. He must find her after a long separation and save her. They must battle the evils of the mythical kingdom of Florin to be reunited with each other. Written in a Shakespearean language format\, ‘Inconceivable!’ is a retelling of “The Princess Bride”: S Morgenstern’s Classic Tale of True Love and High Adventure\, The Good Parts Version Abridged by William Goldman\, adapted by Casey Webb. Performance dates are Thursday\, July 25 and Friday\, July 26 at 7:30 p.m. and Saturday\, July 27 at 3:00 p.m. \nThis program is partly funded by the Fremont Area Community Foundation. Join us for a Shakespearean tale of sword fighting and trwu lwove! \nAdmission is free but tickets are required. Please click here to complete checkout to reserve a ticket.  The Dogwood Center is located one mile east of downtown Fremont. Doors open for seating at 2:30 p.m.  Online sales close two hours prior to events\, please call the box office for ticket availability at 231-924-8885 if online sales have ended.
URL:https://dogwoodcenter.com/events/saturday-july-27-dogwoods-summer-youth-theater-presents-inconceivable-300-p-m-main-stage/
LOCATION:Dogwood Center for Performing Arts\, 4734 S. Campus Court\, Fremont\, MI\, 49412\, United States
END:VEVENT
END:VCALENDAR