BEGIN:VCALENDAR
VERSION:2.0
PRODID:-//Dogwood - ECPv6.15.20//NONSGML v1.0//EN
CALSCALE:GREGORIAN
METHOD:PUBLISH
X-WR-CALNAME:Dogwood
X-ORIGINAL-URL:https://dogwoodcenter.com
X-WR-CALDESC:Events for Dogwood
REFRESH-INTERVAL;VALUE=DURATION:PT1H
X-Robots-Tag:noindex
X-PUBLISHED-TTL:PT1H
BEGIN:VTIMEZONE
TZID:America/Detroit
BEGIN:DAYLIGHT
TZOFFSETFROM:-0500
TZOFFSETTO:-0400
TZNAME:EDT
DTSTART:20250309T070000
END:DAYLIGHT
BEGIN:STANDARD
TZOFFSETFROM:-0400
TZOFFSETTO:-0500
TZNAME:EST
DTSTART:20251102T060000
END:STANDARD
BEGIN:DAYLIGHT
TZOFFSETFROM:-0500
TZOFFSETTO:-0400
TZNAME:EDT
DTSTART:20260308T070000
END:DAYLIGHT
BEGIN:STANDARD
TZOFFSETFROM:-0400
TZOFFSETTO:-0500
TZNAME:EST
DTSTART:20261101T060000
END:STANDARD
BEGIN:DAYLIGHT
TZOFFSETFROM:-0500
TZOFFSETTO:-0400
TZNAME:EDT
DTSTART:20270314T070000
END:DAYLIGHT
BEGIN:STANDARD
TZOFFSETFROM:-0400
TZOFFSETTO:-0500
TZNAME:EST
DTSTART:20271107T060000
END:STANDARD
END:VTIMEZONE
BEGIN:VEVENT
DTSTART;TZID=America/Detroit:20260501T193000
DTEND;TZID=America/Detroit:20260501T210000
DTSTAMP:20260425T173337
CREATED:20260305T160105Z
LAST-MODIFIED:20260305T160105Z
UID:9876-1777663800-1777669200@dogwoodcenter.com
SUMMARY:Whorled – Friday\, May 1 – 7:30 p.m. Black Box Tickets $15.00
DESCRIPTION:Click here for tickets to Whorled!\nDescribed by Local Spins as “a road trip for the ears\,” Whorled transports their audiences around the globe with a fresh blend of re-imagined Celtic\, bluegrass\, French Café\, and jazz influences. \nWhorled is guitarist and digeridooist Thom Jayne\, fiddler Keala Venema\, and accordionist Mariko Venema.  They met by chance at a traditional Irish session; the magic was immediate and they were soon creating their own signature fusion style albeit in relative obscurity during the COVID lockdown period. \nNow in their fifth year playing in public\, Whorled has gained immediate critical acclaim in Michigan’s music scene\, winning two Jammie Awards for their 2023 debut album\, “Reimagined”\, and having three tunes landing on WYCE’s top 100 spins of 2023. \nClick here for tickets. Tickets are $15.00. The Dogwood Center is located one mile east of downtown Fremont. Doors open for seating at 7:00 p.m. Online sales close two hours prior to events\, please call the box office for ticket availability at 231-924-8885 if online sales have ended. \nThe Dogwood Center Box Office is open Tuesday – Friday\, 10:00 a.m. – 2:30 p.m. Tickets are available online at www.dogwoodcenter.com\, at the Dogwood Box Office\, or at NCCA-Artsplace in downtown Fremont. For more information\, phone 231.924.8885.
URL:https://dogwoodcenter.com/events/whorled-friday-may-1-730-p-m-black-box-tickets-15-00/
LOCATION:Dogwood Center for Performing Arts\, 4734 S. Campus Court\, Fremont\, MI\, 49412\, United States
END:VEVENT
END:VCALENDAR