BEGIN:VCALENDAR
VERSION:2.0
PRODID:-//Dogwood - ECPv6.15.20//NONSGML v1.0//EN
CALSCALE:GREGORIAN
METHOD:PUBLISH
X-ORIGINAL-URL:https://dogwoodcenter.com
X-WR-CALDESC:Events for Dogwood
REFRESH-INTERVAL;VALUE=DURATION:PT1H
X-Robots-Tag:noindex
X-PUBLISHED-TTL:PT1H
BEGIN:VTIMEZONE
TZID:America/Detroit
BEGIN:DAYLIGHT
TZOFFSETFROM:-0500
TZOFFSETTO:-0400
TZNAME:EDT
DTSTART:20250309T070000
END:DAYLIGHT
BEGIN:STANDARD
TZOFFSETFROM:-0400
TZOFFSETTO:-0500
TZNAME:EST
DTSTART:20251102T060000
END:STANDARD
BEGIN:DAYLIGHT
TZOFFSETFROM:-0500
TZOFFSETTO:-0400
TZNAME:EDT
DTSTART:20260308T070000
END:DAYLIGHT
BEGIN:STANDARD
TZOFFSETFROM:-0400
TZOFFSETTO:-0500
TZNAME:EST
DTSTART:20261101T060000
END:STANDARD
BEGIN:DAYLIGHT
TZOFFSETFROM:-0500
TZOFFSETTO:-0400
TZNAME:EDT
DTSTART:20270314T070000
END:DAYLIGHT
BEGIN:STANDARD
TZOFFSETFROM:-0400
TZOFFSETTO:-0500
TZNAME:EST
DTSTART:20271107T060000
END:STANDARD
END:VTIMEZONE
BEGIN:VEVENT
DTSTART;TZID=America/Detroit:20260327T190000
DTEND;TZID=America/Detroit:20260327T210000
DTSTAMP:20260425T234234
CREATED:20260215T205155Z
LAST-MODIFIED:20260315T003035Z
UID:9843-1774638000-1774645200@dogwoodcenter.com
SUMMARY:Lionheart Production of 12 Angry Jurors - Friday\, March 27 - Main Stage 7:00 p.m. Tickets Adults $15 Senior & Students $10
DESCRIPTION:Click here for tickets to Lionheart Productions of 12 Angry Jurors on March 27. \n\nA 19-year-old man has just stood trial for the fatal stabbing of his father. “He doesn’t stand a chance\,” mutters the guard as the 12 jurors are taken into the bleak jury room to decide his fate. What appears to be an open-and-shut case quickly turns into a high-stakes psychological battle when one lone juror casts a “not guilty” vote\, citing reasonable doubt. \nAs the temperature in the sweltering room rises\, so do tempers. Confined together\, these twelve ordinary citizens are forced to re-examine the evidence and\, in the process\, confront their own personal histories\, deep-seated prejudices\, and the heavy weight of their responsibility. This electrifying courtroom thriller explores the flaws in human judgment and the power of one person to stand up for justice. \nBy Reginald Rose (Original Author) \nStage Version by Sherman L. Sergel (Dramatizer) \nProduced by special arrangement with THE DRAMATIC PUBLISHING COMPANY of Woodstock\, Illinois \nClick here for tickets. Tickets are $15.00 for Adults and $10.00 for Seniors and Students. The Dogwood Center is located one mile east of downtown Fremont. Doors open for seating at 6:30 p.m. Online sales close two hours prior to events\, please call the box office for ticket availability at 231-924-8885 if online sales have ended. \nThe Dogwood Center Box Office is open Tuesday – Friday\, 10:00 a.m. – 2:30 p.m. Tickets are available online at www.dogwoodcenter.com\, at the Dogwood Box Office\, or at NCCA-Artsplace in downtown Fremont. For more information\, phone 231.924.8885.
URL:https://dogwoodcenter.com/events/lionheart-production-of-12-angry-jurors-saturday-march-27-main-stage-730-p-m-tickets-adults-15-senior-students-10/
LOCATION:Dogwood Center for Performing Arts\, 4734 S. Campus Court\, Fremont\, MI\, 49412\, United States
END:VEVENT
END:VCALENDAR