BEGIN:VCALENDAR
VERSION:2.0
PRODID:-//Dogwood - ECPv6.15.20//NONSGML v1.0//EN
CALSCALE:GREGORIAN
METHOD:PUBLISH
X-WR-CALNAME:Dogwood
X-ORIGINAL-URL:https://dogwoodcenter.com
X-WR-CALDESC:Events for Dogwood
REFRESH-INTERVAL;VALUE=DURATION:PT1H
X-Robots-Tag:noindex
X-PUBLISHED-TTL:PT1H
BEGIN:VTIMEZONE
TZID:America/Detroit
BEGIN:DAYLIGHT
TZOFFSETFROM:-0500
TZOFFSETTO:-0400
TZNAME:EDT
DTSTART:20230312T070000
END:DAYLIGHT
BEGIN:STANDARD
TZOFFSETFROM:-0400
TZOFFSETTO:-0500
TZNAME:EST
DTSTART:20231105T060000
END:STANDARD
BEGIN:DAYLIGHT
TZOFFSETFROM:-0500
TZOFFSETTO:-0400
TZNAME:EDT
DTSTART:20240310T070000
END:DAYLIGHT
BEGIN:STANDARD
TZOFFSETFROM:-0400
TZOFFSETTO:-0500
TZNAME:EST
DTSTART:20241103T060000
END:STANDARD
BEGIN:DAYLIGHT
TZOFFSETFROM:-0500
TZOFFSETTO:-0400
TZNAME:EDT
DTSTART:20250309T070000
END:DAYLIGHT
BEGIN:STANDARD
TZOFFSETFROM:-0400
TZOFFSETTO:-0500
TZNAME:EST
DTSTART:20251102T060000
END:STANDARD
END:VTIMEZONE
BEGIN:VEVENT
DTSTART;TZID=America/Detroit:20240201T123000
DTEND;TZID=America/Detroit:20240201T133000
DTSTAMP:20260422T214555
CREATED:20231012T165046Z
LAST-MODIFIED:20231012T165046Z
UID:8939-1706790600-1706794200@dogwoodcenter.com
SUMMARY:Thursday\, February 1 – January Series of Calvin University - TIM DALRYMPLE 12:30 P.M.
DESCRIPTION:TIM DALRYMPLE\nTimothy Dalrymple is a former national champion gymnast who turned to academia following an accident in college where he broke his neck. He’s studied at Stanford University\, Princeton Theological Seminary\, and Harvard’s Graduate School of Arts and Sciences\, where he made suffering a key theme of his research and teaching in modern Western religious thought.   \nHe was a key player in the launch of patheos.com\, an online marketing place of religious ideas\, and he pioneered many of the techniques that led Patheos to become the world’s largest platform for multi-religious conversations. In 2013\, Dalrymple founded Polymath\, a creative agency that services businesses and nonprofits serving the world.   \nDalrymple currently serves as Christianity Today’s President and CEO\, the flagship evangelical media ministry founded in 1956 by Billy Graham.   \nThis lecture will be broadcast live at the Dogwood Center from 12:30-1:30 p.m. Admission is free. \nFor more information on the Calvin University January Series click here. \nThe Dogwood Center\, a remote site for the Calvin University January Series\, is supported in part by the Fremont Area Community Foundation.
URL:https://dogwoodcenter.com/events/thursday-february-1-january-series-of-calvin-university-tim-dalrymple-1230-p-m-2/
LOCATION:Dogwood Center for Performing Arts\, 4734 S. Campus Court\, Fremont\, MI\, 49412\, United States
END:VEVENT
END:VCALENDAR