BEGIN:VCALENDAR
VERSION:2.0
PRODID:-//Dogwood - ECPv6.15.20//NONSGML v1.0//EN
CALSCALE:GREGORIAN
METHOD:PUBLISH
X-WR-CALNAME:Dogwood
X-ORIGINAL-URL:https://dogwoodcenter.com
X-WR-CALDESC:Events for Dogwood
REFRESH-INTERVAL;VALUE=DURATION:PT1H
X-Robots-Tag:noindex
X-PUBLISHED-TTL:PT1H
BEGIN:VTIMEZONE
TZID:America/Detroit
BEGIN:DAYLIGHT
TZOFFSETFROM:-0500
TZOFFSETTO:-0400
TZNAME:EDT
DTSTART:20210314T070000
END:DAYLIGHT
BEGIN:STANDARD
TZOFFSETFROM:-0400
TZOFFSETTO:-0500
TZNAME:EST
DTSTART:20211107T060000
END:STANDARD
BEGIN:DAYLIGHT
TZOFFSETFROM:-0500
TZOFFSETTO:-0400
TZNAME:EDT
DTSTART:20220313T070000
END:DAYLIGHT
BEGIN:STANDARD
TZOFFSETFROM:-0400
TZOFFSETTO:-0500
TZNAME:EST
DTSTART:20221106T060000
END:STANDARD
BEGIN:DAYLIGHT
TZOFFSETFROM:-0500
TZOFFSETTO:-0400
TZNAME:EDT
DTSTART:20230312T070000
END:DAYLIGHT
BEGIN:STANDARD
TZOFFSETFROM:-0400
TZOFFSETTO:-0500
TZNAME:EST
DTSTART:20231105T060000
END:STANDARD
END:VTIMEZONE
BEGIN:VEVENT
DTSTART;TZID=America/Detroit:20220728T193000
DTEND;TZID=America/Detroit:20220730T220000
DTSTAMP:20260421T194701
CREATED:20220428T181909Z
LAST-MODIFIED:20220602T145947Z
UID:8365-1659036600-1659218400@dogwoodcenter.com
SUMMARY:July 28\, 29\, 30 – Dogwood's Summer Youth Theater presents The Hunchback of Notre Dame   7:30 p.m. Main Stage.
DESCRIPTION:Based on the Victor Hugo novel and songs from the Disney animated feature\, The Hunchback of Notre Dame showcases the film’s Academy Award-nominated score\, as well as new songs by Menken and Schwartz. Peter Parnell’s new book embraces story theater and features verbatim passages from Hugo’s gothic novel.  \nThe musical begins as the bells of Notre Dame sound through the famed cathedral in fifteenth-century Paris. Quasimodo\, the deformed bell-ringer who longs to be “Out There\,” observes all of Paris reveling in the Feast of Fools. Held captive by his devious caretaker\, the archdeacon Dom Claude Frollo\, he escapes for the day and joins the boisterous crowd\, only to be treated cruelly by all but the beautiful Romani woman\, Esmeralda. Quasimodo isn’t the only one captivated by her free spirit\, though – the handsome Captain Phoebus and Frollo are equally enthralled. As the three vie for her attention\, Frollo embarks on a mission to destroy the Roma – and it’s up to Quasimodo to save them all.  \nA sweeping score and powerful story make The Hunchback of Notre Dame an instant classic. Audiences will be swept away by the magic of this truly unforgettable musical.  \nAdmission is free\, general admission! Click here to get your tickets today!
URL:https://dogwoodcenter.com/events/july-28-29-30-dogwoods-summer-youth-theater-presents-the-hunchback-of-notre-dame-730-p-m-main-stage/
LOCATION:Dogwood Center for Performing Arts\, 4734 S. Campus Court\, Fremont\, MI\, 49412\, United States
END:VEVENT
END:VCALENDAR