BEGIN:VCALENDAR
VERSION:2.0
PRODID:-//Dogwood - ECPv6.15.20//NONSGML v1.0//EN
CALSCALE:GREGORIAN
METHOD:PUBLISH
X-ORIGINAL-URL:https://dogwoodcenter.com
X-WR-CALDESC:Events for Dogwood
REFRESH-INTERVAL;VALUE=DURATION:PT1H
X-Robots-Tag:noindex
X-PUBLISHED-TTL:PT1H
BEGIN:VTIMEZONE
TZID:America/Detroit
BEGIN:DAYLIGHT
TZOFFSETFROM:-0500
TZOFFSETTO:-0400
TZNAME:EDT
DTSTART:20210314T070000
END:DAYLIGHT
BEGIN:STANDARD
TZOFFSETFROM:-0400
TZOFFSETTO:-0500
TZNAME:EST
DTSTART:20211107T060000
END:STANDARD
BEGIN:DAYLIGHT
TZOFFSETFROM:-0500
TZOFFSETTO:-0400
TZNAME:EDT
DTSTART:20220313T070000
END:DAYLIGHT
BEGIN:STANDARD
TZOFFSETFROM:-0400
TZOFFSETTO:-0500
TZNAME:EST
DTSTART:20221106T060000
END:STANDARD
BEGIN:DAYLIGHT
TZOFFSETFROM:-0500
TZOFFSETTO:-0400
TZNAME:EDT
DTSTART:20230312T070000
END:DAYLIGHT
BEGIN:STANDARD
TZOFFSETFROM:-0400
TZOFFSETTO:-0500
TZNAME:EST
DTSTART:20231105T060000
END:STANDARD
END:VTIMEZONE
BEGIN:VEVENT
DTSTART;TZID=America/Detroit:20220709T193000
DTEND;TZID=America/Detroit:20220709T213000
DTSTAMP:20260421T135747
CREATED:20220428T180929Z
LAST-MODIFIED:20220428T180929Z
UID:8356-1657395000-1657402200@dogwoodcenter.com
SUMMARY:Saturday\, July 9 – Bimini Brothers   7:30 p.m. Black Box.
DESCRIPTION:The Bimini Brothers is an old school rock and roll comedy rock duo playing the West Michigan music scene since 1983. Warning\, these guys don’t hold back with their visual gags\, dark humor\, parody\, and satire! Having shared the stage with 3 Dog Night\, Boston\, Devo\, and Alice Cooper\, you are guaranteed to want to hang out\, be entertained\, and join in with their tomfoolery.  \nClick here to purchase your tickets now! Tickets are $15.00 each. General admission\, Black Box. Tables can be reserved with the purchase of eight tickets. The Dogwood Center is located one mile east of downtown Fremont. Doors open for seating at 7:00 p.m. \nOnline sales close two hours prior to events\, please call the box office for ticket availability at 231-924-8885 if online sales have ended.
URL:https://dogwoodcenter.com/events/saturday-july-9-bimini-brothers-730-p-m-black-box/
LOCATION:Dogwood Center for Performing Arts\, 4734 S. Campus Court\, Fremont\, MI\, 49412\, United States
END:VEVENT
END:VCALENDAR